BEGIN:VCALENDAR
VERSION:2.0
PRODID:-//Plone.org//NONSGML plone.app.event//EN
X-WR-TIMEZONE:Europe/Madrid
BEGIN:VEVENT
SUMMARY:Concert d'any nou
DTSTART;TZID=Europe/Madrid;VALUE=DATE-TIME:20260111T113000
DTEND;TZID=Europe/Madrid;VALUE=DATE-TIME:20260111T123000
DTSTAMP;VALUE=DATE-TIME:20260425T232715Z
UID:a2d1c02c05c09d0df74469601c47c988
CREATED;VALUE=DATE-TIME:20260111T000000Z
CATEGORIES:Activitats familiars,Música,Activitats
LOCATION:Espai l'Amistat - Carrer de Sant Antoni, 60
ORGANIZER:Amics de la Sardana de Premià de Mar
COMMENT:Preu: Gratuït
DESCRIPTION:Fem Nadal a Premià de Mar
URL:https://premiademar.cat/document.php?id=33783
END:VEVENT
END:VCALENDAR