BEGIN:VCALENDAR
VERSION:2.0
PRODID:-//Plone.org//NONSGML plone.app.event//EN
X-WR-TIMEZONE:Europe/Madrid
BEGIN:VEVENT
SUMMARY:Xerrada Parcs Inclusius
DTSTART;TZID=Europe/Madrid;VALUE=DATE-TIME:20251209T180000
DTEND;TZID=Europe/Madrid;VALUE=DATE-TIME:20251209T190000
DTSTAMP;VALUE=DATE-TIME:20260423T201014Z
UID:5422645d65e4469b0f98042f51128ff4
CREATED;VALUE=DATE-TIME:20251209T000000Z
CATEGORIES:Activitats
LOCATION:Auditori de l'Ajuntament - Ca l'Escoda, carrer del nord, 60, soterrani
ORGANIZER:Ajuntament de Premià de Mar - Servei de Discapacitat i Autonomia Personal
COMMENT:Preu: Gratuït
Durada: 90 minuts
URL:https://premiademar.cat/document.php?id=34218
END:VEVENT
END:VCALENDAR