BEGIN:VCALENDAR
VERSION:2.0
PRODID:-//Plone.org//NONSGML plone.app.event//EN
X-WR-TIMEZONE:Europe/Madrid
BEGIN:VEVENT
SUMMARY:Música al carrer
DTSTART;TZID=Europe/Madrid;VALUE=DATE-TIME:20251222T183000
DTEND;TZID=Europe/Madrid;VALUE=DATE-TIME:20251222T193000
DTSTAMP;VALUE=DATE-TIME:20260424T135134Z
UID:2f8791b5279708c0b697aef897a0b493
CREATED;VALUE=DATE-TIME:20251222T000000Z
CATEGORIES:Mostra,Activitats familiars,Cultura popular,Música,Teatre i altres espectacles
LOCATION:Centre comercial de Premià de Mar
ORGANIZER:Ajuntament de Premià de Mar
COMMENT:Preu: Gratuït.
Durada: De 18.30 a 20.30 h
URL:https://premiademar.cat/document.php?id=34296
END:VEVENT
END:VCALENDAR