BEGIN:VCALENDAR
VERSION:2.0
PRODID:-//Plone.org//NONSGML plone.app.event//EN
X-WR-TIMEZONE:Europe/Madrid
BEGIN:VEVENT
SUMMARY:45è Aplec de Sant Mateu
DTSTART;TZID=Europe/Madrid;VALUE=DATE-TIME:20251214T113000
DTEND;TZID=Europe/Madrid;VALUE=DATE-TIME:20251214T123000
DTSTAMP;VALUE=DATE-TIME:20260423T100118Z
UID:21e4db6615953f67aa01cf3c4da316ac
CREATED;VALUE=DATE-TIME:20251214T000000Z
CATEGORIES:Cultura popular,Música,Dansa,Activitats
LOCATION:Plaça de la Roca de la Balena - Camí Ral, s/n
ORGANIZER:Amics de la Sardana de Premià de Mar
COMMENT:Col·labora: Ajuntament de Premià de Mar
Preu: Gratuït
Durada: Fins les 14h
DESCRIPTION:Sardanes i tradició amb la millor cobla
URL:https://premiademar.cat/document.php?id=34399
END:VEVENT
END:VCALENDAR