BEGIN:VCALENDAR
VERSION:2.0
PRODID:-//Plone.org//NONSGML plone.app.event//EN
X-WR-TIMEZONE:Europe/Madrid
BEGIN:VEVENT
SUMMARY:Els Esperits de Nadal - Teatre musical
DTSTART;TZID=Europe/Madrid;VALUE=DATE-TIME:20251227T120000
DTEND;TZID=Europe/Madrid;VALUE=DATE-TIME:20251227T130000
DTSTAMP;VALUE=DATE-TIME:20260421T171824Z
UID:92bedb823fe9f31822f35244e3a1390f
CREATED;VALUE=DATE-TIME:20251227T000000Z
CATEGORIES:Teatre i altres espectacles
LOCATION:Espai l'Amistat - Carrer de Sant Antoni, 60
ORGANIZER:La Caixa dels Trons Arts Escèniques
COMMENT:Preu: 11&euro;
Durada: 1h 15m.
DESCRIPTION:Espectacle Familiar
URL:https://premiademar.cat/document.php?id=34401
END:VEVENT
END:VCALENDAR