BEGIN:VCALENDAR
VERSION:2.0
PRODID:-//Plone.org//NONSGML plone.app.event//EN
X-WR-TIMEZONE:Europe/Madrid
BEGIN:VEVENT
SUMMARY:&OpenCurlyDoubleQuote;Olor de contes&CloseCurlyDoubleQuote;
DTSTART;TZID=Europe/Madrid;VALUE=DATE-TIME:20260122T173000
DTEND;TZID=Europe/Madrid;VALUE=DATE-TIME:20260122T183000
DTSTAMP;VALUE=DATE-TIME:20260422T102243Z
UID:ea0a352d90cef0f34bf0f624cf6b6a0e
CREATED;VALUE=DATE-TIME:20260122T000000Z
CATEGORIES:Activitats familiars
LOCATION:Biblioteca Martí Rosselló i Lloveras - Carretera de Vilassar de Dalt, 100
COMMENT:Col·labora: Cris Aguirre
Preu: Gratuït
Durada: 45 min
DESCRIPTION:Hora del conte
URL:https://premiademar.cat/document.php?id=34415
END:VEVENT
END:VCALENDAR