BEGIN:VCALENDAR
VERSION:2.0
PRODID:-//Plone.org//NONSGML plone.app.event//EN
X-WR-TIMEZONE:Europe/Madrid
BEGIN:VEVENT
SUMMARY:Entrega la teva Carta als Reis Mags
DTSTART;TZID=Europe/Madrid;VALUE=DATE-TIME:20260103T180000
DTEND;TZID=Europe/Madrid;VALUE=DATE-TIME:20260103T190000
DTSTAMP;VALUE=DATE-TIME:20260421T160547Z
UID:75afcadf429095d3bb0283abd99f778e
CREATED;VALUE=DATE-TIME:20260103T000000Z
CATEGORIES:Activitats familiars,Cultura popular
LOCATION:Plaça Andalet
ORGANIZER:Associació de Veïns Tarter-Maresme
COMMENT:Col·labora: Ajuntament Premià de Mar
Preu: Gratuït
Durada: De les 18 a les 20h
DESCRIPTION:Carta al Patge Real
URL:https://premiademar.cat/document.php?id=34716
END:VEVENT
END:VCALENDAR