BEGIN:VCALENDAR
VERSION:2.0
PRODID:-//Plone.org//NONSGML plone.app.event//EN
X-WR-TIMEZONE:Europe/Madrid
BEGIN:VEVENT
SUMMARY:Descobrim el calendari romà: taller d'amulets al déu Janus
DTSTART;TZID=Europe/Madrid;VALUE=DATE-TIME:20260111T120000
DTEND;TZID=Europe/Madrid;VALUE=DATE-TIME:20260111T130000
DTSTAMP;VALUE=DATE-TIME:20260422T172938Z
UID:8baf46cfe299c1eb0f7b5c71f06ba510
CREATED;VALUE=DATE-TIME:20260111T000000Z
CATEGORIES:Activitats familiars
LOCATION:Museu Romà (Espai Ferrerons) - Carrer de la Vil·la Romana, s/n
ORGANIZER:Museu Romà de Premià de Mar
COMMENT:Col·labora: Museu de l'Estampació
Preu: 4&euro;/persona
Durada: 1 hora
DESCRIPTION:Som-hi! Caps de setmana per descobrir
URL:https://premiademar.cat/document.php?id=34803
END:VEVENT
END:VCALENDAR