BEGIN:VCALENDAR
VERSION:2.0
PRODID:-//Plone.org//NONSGML plone.app.event//EN
X-WR-TIMEZONE:Europe/Madrid
BEGIN:VEVENT
SUMMARY:3r Torneig Pàdel Fincas Viaga & Carnicería El Uru
DTSTART;TZID=Europe/Madrid;VALUE=DATE-TIME:20260108T000000
DTEND;TZID=Europe/Madrid;VALUE=DATE-TIME:20260108T010000
DTSTAMP;VALUE=DATE-TIME:20260422T160404Z
UID:bf1ae6143df8306d57e2d082430bc5ee
CREATED;VALUE=DATE-TIME:20260108T000000Z
CATEGORIES:Esports
LOCATION:Avinguda Torrent Castells 23 Club Tennis i Pàdel Premià de Mar
ORGANIZER:Club Tennis i Pàdel Premià de Mar
COMMENT:Col·labora: Fincas Viaga i Carnicería el Uru
Preu: 25&euro; Soci / 30&euro; No soci / opcional més 10&euro; gaudeix d'una barbacoa Uru
Durada: del 16 de gener al 18 de gener
URL:https://premiademar.cat/document.php?id=34833
END:VEVENT
END:VCALENDAR