BEGIN:VCALENDAR
VERSION:2.0
PRODID:-//Plone.org//NONSGML plone.app.event//EN
X-WR-TIMEZONE:Europe/Madrid
BEGIN:VEVENT
SUMMARY:Taller de màgia
DTSTART;TZID=Europe/Madrid;VALUE=DATE-TIME:20260118T110000
DTEND;TZID=Europe/Madrid;VALUE=DATE-TIME:20260118T120000
DTSTAMP;VALUE=DATE-TIME:20260422T121346Z
UID:3ad996c90045a78f48f7c64cbecc1720
CREATED;VALUE=DATE-TIME:20260118T000000Z
CATEGORIES:Activitats
LOCATION:Escola La Lió - Joan Prim, 30
ORGANIZER:Ajuntament Premià de Mar
COMMENT:Preu: Gratuït
Durada: D'11h a 13h
DESCRIPTION:Som-hi! Caps de setmana per descobrir
URL:https://premiademar.cat/document.php?id=34860
END:VEVENT
END:VCALENDAR