BEGIN:VCALENDAR
VERSION:2.0
PRODID:-//Plone.org//NONSGML plone.app.event//EN
X-WR-TIMEZONE:Europe/Madrid
BEGIN:VEVENT
SUMMARY:Consciència corporal
DTSTART;TZID=Europe/Madrid;VALUE=DATE-TIME:20260206T183000
DTEND;TZID=Europe/Madrid;VALUE=DATE-TIME:20260206T193000
DTSTAMP;VALUE=DATE-TIME:20260422T084057Z
UID:1014e61091632c34fb4ff2619dc1afd4
CREATED;VALUE=DATE-TIME:20260123T000000Z
CATEGORIES:Cursos
LOCATION:Escola Municipal de Música - Carretera de Vilassar de Dalt, 52-54
ORGANIZER:Escola Municipal de Música de Premià de Mar
COMMENT:Preu: 43,09&euro; inclou matrícula + 3 sessions d'1,5 hores de classe
Durada: De 18.30 a 20h
DESCRIPTION:Cursos Monogràfics
URL:https://premiademar.cat/document.php?id=34965
END:VEVENT
END:VCALENDAR