BEGIN:VCALENDAR
VERSION:2.0
PRODID:-//Plone.org//NONSGML plone.app.event//EN
X-WR-TIMEZONE:Europe/Madrid
BEGIN:VEVENT
SUMMARY:Contes entre coixins
DTSTART;TZID=Europe/Madrid;VALUE=DATE-TIME:20260124T110000
DTEND;TZID=Europe/Madrid;VALUE=DATE-TIME:20260124T120000
DTSTAMP;VALUE=DATE-TIME:20260422T084041Z
UID:579cd7579c99133304e6a147e052fe31
CREATED;VALUE=DATE-TIME:20260124T000000Z
CATEGORIES:Activitats familiars
LOCATION:Biblioteca Martí Rosselló i Lloveras - Carretera de Vilassar de Dalt, 100
ORGANIZER:Ajuntament de Premià de Mar
COMMENT:Preu: Gratuït
Durada: Entrada lliure
DESCRIPTION:Som-hi! Caps de setmana per descobrir
URL:https://premiademar.cat/document.php?id=34971
END:VEVENT
END:VCALENDAR