BEGIN:VCALENDAR
VERSION:2.0
PRODID:-//Plone.org//NONSGML plone.app.event//EN
X-WR-TIMEZONE:Europe/Madrid
BEGIN:VEVENT
SUMMARY:XXXVIII Rua de Carnestoltes
DTSTART;TZID=Europe/Madrid;VALUE=DATE-TIME:20260215T173000
DTEND;TZID=Europe/Madrid;VALUE=DATE-TIME:20260215T183000
DTSTAMP;VALUE=DATE-TIME:20260421T172035Z
UID:c02d455b409fb93d6c8bc40470f56ddb
CREATED;VALUE=DATE-TIME:20260215T000000Z
CATEGORIES:Cultura popular
LOCATION:Des de la plaça Joan Coromines
COMMENT:Preu: Gratuït
DESCRIPTION:Festa Major d'hivern i Carnaval 2026
URL:https://premiademar.cat/document.php?id=35373
END:VEVENT
END:VCALENDAR