BEGIN:VCALENDAR
VERSION:2.0
PRODID:-//Plone.org//NONSGML plone.app.event//EN
X-WR-TIMEZONE:Europe/Madrid
BEGIN:VEVENT
SUMMARY:El poder del NO
DTSTART;TZID=Europe/Madrid;VALUE=DATE-TIME:20260213T173000
DTEND;TZID=Europe/Madrid;VALUE=DATE-TIME:20260213T183000
DTSTAMP;VALUE=DATE-TIME:20260421T190943Z
UID:1ebbbf147a73684865f8af5b162f1155
CREATED;VALUE=DATE-TIME:20260213T000000Z
CATEGORIES:Activitats
LOCATION:Can Salamó - Carrer de la Plaça, 65
ORGANIZER:Escolta Jove
COMMENT:Preu: Gratuït
Durada: 1h
URL:https://premiademar.cat/document.php?id=35714
END:VEVENT
END:VCALENDAR