BEGIN:VCALENDAR
VERSION:2.0
PRODID:-//Plone.org//NONSGML plone.app.event//EN
X-WR-TIMEZONE:Europe/Madrid
BEGIN:VEVENT
SUMMARY:Carnaval Ritmo i Sabor
DTSTART;TZID=Europe/Madrid;VALUE=DATE-TIME:20260214T170000
DTEND;TZID=Europe/Madrid;VALUE=DATE-TIME:20260214T180000
DTSTAMP;VALUE=DATE-TIME:20260421T153205Z
UID:4ac7795703ed1b228684b0cc42ff5c3c
CREATED;VALUE=DATE-TIME:20260214T000000Z
CATEGORIES:Activitats familiars,Cultura popular,Música,Dansa,Teatre i altres espectacles
LOCATION:Plaça Països Catalans - Plaça Països Catalans
ORGANIZER:Plataforma Intercultural de Premià de Mar
COMMENT:Col·labora: Ajuntament Premiâ de Mar
Preu: Gratuit
Durada: 3 hores
DESCRIPTION:Carnaval de Brasil
URL:https://premiademar.cat/document.php?id=35716
END:VEVENT
END:VCALENDAR