BEGIN:VCALENDAR
VERSION:2.0
PRODID:-//Plone.org//NONSGML plone.app.event//EN
X-WR-TIMEZONE:Europe/Madrid
BEGIN:VEVENT
SUMMARY:Mareig
DTSTART;TZID=Europe/Madrid;VALUE=DATE-TIME:20260301T190000
DTEND;TZID=Europe/Madrid;VALUE=DATE-TIME:20260301T200000
DTSTAMP;VALUE=DATE-TIME:20260421T075419Z
UID:15eb9aa227f245a50786a09c2b047be0
CREATED;VALUE=DATE-TIME:20260221T000000Z
CATEGORIES:Teatre i altres espectacles
LOCATION:Patronat Teatre - Josep Paradeda, 26
ORGANIZER:Cia. Un.Glop.Teatre resident al Patronat Teatre
COMMENT:Preu: 10&euro;
9&euro; col·lectius
7&euro; socis
Durada: Dissabtes 20.00 hores / diumenges 19.00 hores
DESCRIPTION:Teatre amateur
URL:https://premiademar.cat/document.php?id=35847
END:VEVENT
END:VCALENDAR