BEGIN:VCALENDAR
VERSION:2.0
PRODID:-//Plone.org//NONSGML plone.app.event//EN
X-WR-TIMEZONE:Europe/Madrid
BEGIN:VEVENT
SUMMARY:Inauguració de l'exposició permanent "L'arqueologia romana de Premià"
DTSTART;TZID=Europe/Madrid;VALUE=DATE-TIME:20260301T120000
DTEND;TZID=Europe/Madrid;VALUE=DATE-TIME:20260301T130000
DTSTAMP;VALUE=DATE-TIME:20260421T061848Z
UID:b8199192452da4de0ef00a1c0f10a4c6
CREATED;VALUE=DATE-TIME:20260301T000000Z
CATEGORIES:Museus i exposicions
LOCATION:Museu Romà (Espai Ferrerons) - Carrer de la Vil·la Romana, s/n
ORGANIZER:Museu Romà de Premià de Mar
COMMENT:Col·labora: Museu de l'Estampació
Preu: Accés lliure
Durada: 1 hora
URL:https://premiademar.cat/document.php?id=35849
END:VEVENT
END:VCALENDAR