BEGIN:VCALENDAR
VERSION:2.0
PRODID:-//Plone.org//NONSGML plone.app.event//EN
X-WR-TIMEZONE:Europe/Madrid
BEGIN:VEVENT
SUMMARY:Xerrada Anna Campmany
DTSTART;TZID=Europe/Madrid;VALUE=DATE-TIME:20260302T200000
DTEND;TZID=Europe/Madrid;VALUE=DATE-TIME:20260302T210000
DTSTAMP;VALUE=DATE-TIME:20260421T043543Z
UID:aaf76600f40358b32ae87cb007c1def2
CREATED;VALUE=DATE-TIME:20260302T000000Z
CATEGORIES:Conferència
LOCATION:Auditori de l'Escola Municipal de Música - Carretera Vilassar de Dalt, 52
ORGANIZER:Escola de Música
COMMENT:Preu: Gratuït.
Durada: 20 a 21 h
DESCRIPTION:8M: Dia Internacional de la Dona
URL:https://premiademar.cat/document.php?id=35908
END:VEVENT
END:VCALENDAR