BEGIN:VCALENDAR
VERSION:2.0
PRODID:-//Plone.org//NONSGML plone.app.event//EN
X-WR-TIMEZONE:Europe/Madrid
BEGIN:VEVENT
SUMMARY:Taller familiar: Dones de Roma
DTSTART;TZID=Europe/Madrid;VALUE=DATE-TIME:20260308T120000
DTEND;TZID=Europe/Madrid;VALUE=DATE-TIME:20260308T130000
DTSTAMP;VALUE=DATE-TIME:20260421T022801Z
UID:430b0d67cc173ef8694e914f0202f4f1
CREATED;VALUE=DATE-TIME:20260308T000000Z
CATEGORIES:Activitats familiars
LOCATION:Museu Romà. Espai Ferrerons - Carrer de la Vil·la Romana, s/n
ORGANIZER:Museu Romà de Premià de Mar
COMMENT:Col·labora: Museu de l'Estampació
Preu: 4&euro;/persona
Durada: 60'
DESCRIPTION:8M: Dia Internacional de la Dona
URL:https://premiademar.cat/document.php?id=35963
END:VEVENT
END:VCALENDAR