BEGIN:VCALENDAR
VERSION:2.0
PRODID:-//Plone.org//NONSGML plone.app.event//EN
X-WR-TIMEZONE:Europe/Madrid
BEGIN:VEVENT
SUMMARY:3ª Fira d'Orientació Educativa
DTSTART;TZID=Europe/Madrid;VALUE=DATE-TIME:20260312T093000
DTEND;TZID=Europe/Madrid;VALUE=DATE-TIME:20260312T103000
DTSTAMP;VALUE=DATE-TIME:20260425T201456Z
UID:4b955d418d741fa132accd46f19b204d
CREATED;VALUE=DATE-TIME:20260312T000000Z
CATEGORIES:Mostra
LOCATION:Pista petanca premià de dalt
ORGANIZER:Ajuntament Premià de Mar
Ajuntament de Premià de dalt
Fundació Gentis
COMMENT:Preu: Gratuit
Durada: De 9.30 a 14h i de 15 a 19h
URL:https://premiademar.cat/document.php?id=35989
END:VEVENT
END:VCALENDAR