BEGIN:VCALENDAR
VERSION:2.0
PRODID:-//Plone.org//NONSGML plone.app.event//EN
X-WR-TIMEZONE:Europe/Madrid
BEGIN:VEVENT
SUMMARY:Autocura en Gent Gran i grup de Cuidadors Informals
DTSTART;TZID=Europe/Madrid;VALUE=DATE-TIME:20260413T111500
DTEND;TZID=Europe/Madrid;VALUE=DATE-TIME:20260413T121500
DTSTAMP;VALUE=DATE-TIME:20260420T030435Z
UID:637fed5f9ca2daacd8b3cf4ff04478ec
CREATED;VALUE=DATE-TIME:20260413T000000Z
CATEGORIES:Conferència,Cursos,Activitats
LOCATION:Cambra Agrària (Camí Ral 29) - CONEX
ORGANIZER:Equip d'Atenció Primària de Premià de Mar
COMMENT:Col·labora: Ajuntament de Premià de Mar
Preu: Gratuït
DESCRIPTION:Taller Escola i Salut
URL:https://premiademar.cat/document.php?id=36009
END:VEVENT
END:VCALENDAR