BEGIN:VCALENDAR
VERSION:2.0
PRODID:-//Plone.org//NONSGML plone.app.event//EN
X-WR-TIMEZONE:Europe/Madrid
BEGIN:VEVENT
SUMMARY:Taller millora l'ús del mòbil
DTSTART;TZID=Europe/Madrid;VALUE=DATE-TIME:20260518T100000
DTEND;TZID=Europe/Madrid;VALUE=DATE-TIME:20260518T110000
DTSTAMP;VALUE=DATE-TIME:20260420T045842Z
UID:52a314d119b1f66494f7a1aa1b87529d
CREATED;VALUE=DATE-TIME:20260413T000000Z
CATEGORIES:Cursos,Activitats
LOCATION:Centre Cívic - Esperança, 19
ORGANIZER:Ajuntament de Premià de Mar
COMMENT:Preu: Gratuït
DESCRIPTION:xarxes socials i aplicacions bàsiques i necessàries.
URL:https://premiademar.cat/document.php?id=36010
END:VEVENT
END:VCALENDAR