BEGIN:VCALENDAR
VERSION:2.0
PRODID:-//Plone.org//NONSGML plone.app.event//EN
X-WR-TIMEZONE:Europe/Madrid
BEGIN:VEVENT
SUMMARY:&OpenCurlyDoubleQuote;Mans per calmar el dolor&CloseCurlyDoubleQuote;
DTSTART;TZID=Europe/Madrid;VALUE=DATE-TIME:20260311T180000
DTEND;TZID=Europe/Madrid;VALUE=DATE-TIME:20260311T190000
DTSTAMP;VALUE=DATE-TIME:20260422T212338Z
UID:12879070482bb67dc2abd08da6ff0235
CREATED;VALUE=DATE-TIME:20260311T000000Z
CATEGORIES:Lletres i diàlegs
LOCATION:Biblioteca Martí Rosselló i Lloveras - Carretera de Vilassar de Dalt, 100
COMMENT:Col·labora: Isabel Compan
Preu: Gratuït
DESCRIPTION:Presentació de llibre
URL:https://premiademar.cat/document.php?id=36034
END:VEVENT
END:VCALENDAR