BEGIN:VCALENDAR
VERSION:2.0
PRODID:-//Plone.org//NONSGML plone.app.event//EN
X-WR-TIMEZONE:Europe/Madrid
BEGIN:VEVENT
SUMMARY:Taller "Què és (i què no és) la sostenibilitat?"
DTSTART;TZID=Europe/Madrid;VALUE=DATE-TIME:20260428T180000
DTEND;TZID=Europe/Madrid;VALUE=DATE-TIME:20260428T190000
DTSTAMP;VALUE=DATE-TIME:20260421T143948Z
UID:83b31fdbecca5fc3ad6ea52a1f129b35
CREATED;VALUE=DATE-TIME:20260428T000000Z
CATEGORIES:Cursos
LOCATION:Can Roura 1ª Planta
ORGANIZER:Premià Energia
COMMENT:Col·labora: Ajuntament de Premià de Mar
Preu: Gratuït
Durada: 1h 30'
DESCRIPTION:Taller-debat sobre transició ecològica
URL:https://premiademar.cat/document.php?id=36042
END:VEVENT
END:VCALENDAR