BEGIN:VCALENDAR
VERSION:2.0
PRODID:-//Plone.org//NONSGML plone.app.event//EN
X-WR-TIMEZONE:Europe/Madrid
BEGIN:VEVENT
SUMMARY:Premià de Circ
DTSTART;TZID=Europe/Madrid;VALUE=DATE-TIME:20260510T000000
DTEND;TZID=Europe/Madrid;VALUE=DATE-TIME:20260510T010000
DTSTAMP;VALUE=DATE-TIME:20260424T105648Z
UID:27835df9180ae8979cf295b9a7ba8e28
CREATED;VALUE=DATE-TIME:20260508T000000Z
CATEGORIES:Activitats familiars,Teatre i altres espectacles,Activitats
LOCATION:Espectacles en diferents espais del municipi
COMMENT:Preu: Activitats gratuites
URL:https://premiademar.cat/document.php?id=36454
END:VEVENT
END:VCALENDAR