BEGIN:VCALENDAR
VERSION:2.0
PRODID:-//Plone.org//NONSGML plone.app.event//EN
X-WR-TIMEZONE:Europe/Madrid
BEGIN:VEVENT
SUMMARY:Contes del mar
DTSTART;TZID=Europe/Madrid;VALUE=DATE-TIME:20260512T173000
DTEND;TZID=Europe/Madrid;VALUE=DATE-TIME:20260512T183000
DTSTAMP;VALUE=DATE-TIME:20260420T154216Z
UID:a607a971142bb493e7f5bb9025353246
CREATED;VALUE=DATE-TIME:20260512T000000Z
CATEGORIES:Activitats familiars
LOCATION:Biblioteca Martí Rosselló i Lloveras - Carretera de Vilassar de Dalt, 100
COMMENT:Col·labora: Gemma Farriols
Preu: Gratuït
DESCRIPTION:Hora del conte
URL:https://premiademar.cat/document.php?id=36467
END:VEVENT
END:VCALENDAR