BEGIN:VCALENDAR
VERSION:2.0
PRODID:-//Plone.org//NONSGML plone.app.event//EN
X-WR-TIMEZONE:Europe/Madrid
BEGIN:VEVENT
SUMMARY:Presentació del festival Premià de Circ 2026
DTSTART;TZID=Europe/Madrid;VALUE=DATE-TIME:20260508T183000
DTEND;TZID=Europe/Madrid;VALUE=DATE-TIME:20260508T193000
DTSTAMP;VALUE=DATE-TIME:20260420T153837Z
UID:c5b4cd5bed119bfa2edff65efa066118
CREATED;VALUE=DATE-TIME:20260508T000000Z
CATEGORIES:Activitats familiars,Teatre i altres espectacles,Activitats
LOCATION:Plaça de la Sardana - Plaça de la Sardana
COMMENT:Preu: Gratuït
DESCRIPTION:Premià de Circ 2026
URL:https://premiademar.cat/document.php?id=36471
END:VEVENT
END:VCALENDAR