BEGIN:VCALENDAR
VERSION:2.0
PRODID:-//Plone.org//NONSGML plone.app.event//EN
X-WR-TIMEZONE:Europe/Madrid
BEGIN:VEVENT
SUMMARY:Conhort
DTSTART;TZID=Europe/Madrid;VALUE=DATE-TIME:20260508T200000
DTEND;TZID=Europe/Madrid;VALUE=DATE-TIME:20260508T210000
DTSTAMP;VALUE=DATE-TIME:20260424T134603Z
UID:5e522d768a309cc6e28023e37a3947ac
CREATED;VALUE=DATE-TIME:20260508T000000Z
CATEGORIES:Activitats familiars,Teatre i altres espectacles,Activitats
LOCATION:Espai l'Amistat - Carrer de Sant Antoni, 60
COMMENT:Preu: 6,00 &euro;
Durada: Espectacle per a tots els públics
DESCRIPTION:Premià de Circ 2026
URL:https://premiademar.cat/document.php?id=36472
END:VEVENT
END:VCALENDAR