BEGIN:VCALENDAR
VERSION:2.0
PRODID:-//Plone.org//NONSGML plone.app.event//EN
X-WR-TIMEZONE:Europe/Madrid
BEGIN:VEVENT
SUMMARY:Caiguda lliure per a persones amb vertigen
DTSTART;TZID=Europe/Madrid;VALUE=DATE-TIME:20260509T173000
DTEND;TZID=Europe/Madrid;VALUE=DATE-TIME:20260509T183000
DTSTAMP;VALUE=DATE-TIME:20260424T134523Z
UID:b106f2ddc86bbb3001c324617ce8a174
CREATED;VALUE=DATE-TIME:20260509T000000Z
CATEGORIES:Activitats familiars,Teatre i altres espectacles,Activitats
LOCATION:Porxo de l'Escola La Lió - Joan Prim, 30
COMMENT:Preu: Gratuït
DESCRIPTION:Premià de Circ 2026
URL:https://premiademar.cat/document.php?id=36473
END:VEVENT
END:VCALENDAR