BEGIN:VCALENDAR
VERSION:2.0
PRODID:-//Plone.org//NONSGML plone.app.event//EN
X-WR-TIMEZONE:Europe/Madrid
BEGIN:VEVENT
SUMMARY:Espai Vital
DTSTART;TZID=Europe/Madrid;VALUE=DATE-TIME:20260509T183000
DTEND;TZID=Europe/Madrid;VALUE=DATE-TIME:20260509T193000
DTSTAMP;VALUE=DATE-TIME:20260424T134618Z
UID:e96431d84c7c919d409fb1dfa9851da6
CREATED;VALUE=DATE-TIME:20260509T000000Z
CATEGORIES:Activitats familiars,Teatre i altres espectacles,Activitats
LOCATION:Plaça Ernest Lluch - Plaça Ernest Lluch
COMMENT:Preu: Gratuït
DESCRIPTION:Premià de Circ 2026
URL:https://premiademar.cat/document.php?id=36474
END:VEVENT
END:VCALENDAR