BEGIN:VCALENDAR
VERSION:2.0
PRODID:-//Plone.org//NONSGML plone.app.event//EN
X-WR-TIMEZONE:Europe/Madrid
BEGIN:VEVENT
SUMMARY:L'Appel du vide
DTSTART;TZID=Europe/Madrid;VALUE=DATE-TIME:20260509T193000
DTEND;TZID=Europe/Madrid;VALUE=DATE-TIME:20260509T203000
DTSTAMP;VALUE=DATE-TIME:20260424T134508Z
UID:8d2abd1d1cf4908295e60190591b3170
CREATED;VALUE=DATE-TIME:20260509T000000Z
CATEGORIES:Activitats familiars,Teatre i altres espectacles,Activitats
LOCATION:Plaça Països Catalans - Plaça Països Catalans
COMMENT:Preu: Gratuït
DESCRIPTION:Premià de Circ 2026
URL:https://premiademar.cat/document.php?id=36475
END:VEVENT
END:VCALENDAR