BEGIN:VCALENDAR
VERSION:2.0
PRODID:-//Plone.org//NONSGML plone.app.event//EN
X-WR-TIMEZONE:Europe/Madrid
BEGIN:VEVENT
SUMMARY:Taller de circ
DTSTART;TZID=Europe/Madrid;VALUE=DATE-TIME:20260510T094500
DTEND;TZID=Europe/Madrid;VALUE=DATE-TIME:20260510T104500
DTSTAMP;VALUE=DATE-TIME:20260424T140505Z
UID:d664a8c36d0fdc83711af9f96d2a3e8e
CREATED;VALUE=DATE-TIME:20260510T000000Z
CATEGORIES:Activitats familiars,Teatre i altres espectacles,Activitats
LOCATION:Plaça de Mercè Rodoreda - Plaça de Mercè Rodoreda
COMMENT:Preu: Gratuït
DESCRIPTION:Premià de Circ 2026
URL:https://premiademar.cat/document.php?id=36476
END:VEVENT
END:VCALENDAR