BEGIN:VCALENDAR
VERSION:2.0
PRODID:-//Plone.org//NONSGML plone.app.event//EN
X-WR-TIMEZONE:Europe/Madrid
BEGIN:VEVENT
SUMMARY:Does
DTSTART;TZID=Europe/Madrid;VALUE=DATE-TIME:20260510T113000
DTEND;TZID=Europe/Madrid;VALUE=DATE-TIME:20260510T123000
DTSTAMP;VALUE=DATE-TIME:20260424T170635Z
UID:0a5e6d568b9ac41c59c08a18bc6a88f0
CREATED;VALUE=DATE-TIME:20260510T000000Z
CATEGORIES:Activitats familiars,Teatre i altres espectacles,Activitats
LOCATION:Plaça de Mercè Rodoreda - Plaça de Mercè Rodoreda
COMMENT:Preu: Gratuït
DESCRIPTION:Premià de Circ 2026
URL:https://premiademar.cat/document.php?id=36477
END:VEVENT
END:VCALENDAR