BEGIN:VCALENDAR
VERSION:2.0
PRODID:-//Plone.org//NONSGML plone.app.event//EN
X-WR-TIMEZONE:Europe/Madrid
BEGIN:VEVENT
SUMMARY:Convergències i divergències
DTSTART;TZID=Europe/Madrid;VALUE=DATE-TIME:20260517T180000
DTEND;TZID=Europe/Madrid;VALUE=DATE-TIME:20260517T190000
DTSTAMP;VALUE=DATE-TIME:20260424T123125Z
UID:6fa95987ababc19d0979b980812de6d6
CREATED;VALUE=DATE-TIME:20260429T000000Z
CATEGORIES:Museus i exposicions,Activitats
LOCATION:Premiart: Sala d'exposicions municipal - Plaça ajuntament 1
ORGANIZER:Ajuntament de premià de mar
COMMENT:Col·labora: Mostrarte
Preu: Gratuït
DESCRIPTION:Un diàleg possible
URL:https://premiademar.cat/document.php?id=36478
END:VEVENT
END:VCALENDAR