BEGIN:VCALENDAR
VERSION:2.0
PRODID:-//Plone.org//NONSGML plone.app.event//EN
X-WR-TIMEZONE:Europe/Madrid
BEGIN:VEVENT
SUMMARY:Xerrada sobre adherència al tractament
DTSTART;TZID=Europe/Madrid;VALUE=DATE-TIME:20260428T100000
DTEND;TZID=Europe/Madrid;VALUE=DATE-TIME:20260428T110000
DTSTAMP;VALUE=DATE-TIME:20260423T142244Z
UID:7f40538f1304469685716fab1d896e5e
CREATED;VALUE=DATE-TIME:20260428T000000Z
CATEGORIES:Activitats,Gent Gran
LOCATION:Casal d'Avis Can Manent - c/ de la Plaça, núm. 5
ORGANIZER:Farmàcia Genís
COMMENT:Col·labora: Ajuntament de Premià de Mar - Casal d'Avis Can Manent
Preu: Gratuït
DESCRIPTION:La importància de seguir bé els tractaments
URL:https://premiademar.cat/document.php?id=36487
END:VEVENT
END:VCALENDAR